BEGIN:VCALENDAR
VERSION:2.0
PRODID:-//Університет Григорія Сковороди в Переяславі - ECPv5.16.1.1//NONSGML v1.0//EN
CALSCALE:GREGORIAN
METHOD:PUBLISH
X-WR-CALNAME:Університет Григорія Сковороди в Переяславі
X-ORIGINAL-URL:https://uhsp.edu.ua
X-WR-CALDESC:Події за Університет Григорія Сковороди в Переяславі
REFRESH-INTERVAL;VALUE=DURATION:PT1H
X-Robots-Tag:noindex
X-PUBLISHED-TTL:PT1H
BEGIN:VTIMEZONE
TZID:Europe/Kiev
BEGIN:DAYLIGHT
TZOFFSETFROM:+0200
TZOFFSETTO:+0300
TZNAME:EEST
DTSTART:20220327T010000
END:DAYLIGHT
BEGIN:STANDARD
TZOFFSETFROM:+0300
TZOFFSETTO:+0200
TZNAME:EET
DTSTART:20221030T010000
END:STANDARD
BEGIN:DAYLIGHT
TZOFFSETFROM:+0200
TZOFFSETTO:+0300
TZNAME:EEST
DTSTART:20230326T010000
END:DAYLIGHT
BEGIN:STANDARD
TZOFFSETFROM:+0300
TZOFFSETTO:+0200
TZNAME:EET
DTSTART:20231029T010000
END:STANDARD
END:VTIMEZONE
BEGIN:VEVENT
DTSTART;VALUE=DATE:20230601
DTEND;VALUE=DATE:20230603
DTSTAMP:20260420T105850
CREATED:20230504T093026Z
LAST-MODIFIED:20230504T093026Z
UID:47930-1685577600-1685750399@uhsp.edu.ua
SUMMARY:Міжнародна науково-практична конференція «Європейські орієнтири політичної й духовної консолідації українського суспільства»
DESCRIPTION:[vc_row][vc_column][vc_column_text] \nКафедра політології факультету гуманітарно-природничої освіти та соціальних технологій Університету Григорія Сковороди в Переяславі запрошує до участі в Міжнародній науково-практичній конференції  «Європейські орієнтири політичної й духовної консолідації українського суспільства»\, яка відбудеться 1–2 червня 2023 року. \nУ 2023 році організаторами запропоновано такі теми для обговорення: \n\nсуспільна консолідація як предмет політологічного аналізу;\nполітико-інституційні й правові умови консолідації українського суспільства в контексті європейських демократичних орієнтирів;\nпроблеми державного правління: баланс між централізацією й децентралізацією влади;\nправові й політико-етичні аспекти взаємодії влади і суспільства; модернізація української культури\, духовності\, освіти і ментальності;\nпроблеми національної консолідації як чинника збереження європейської української нації в умовах російсько-української війни;\nнаціонально-культурна ідентичність України як складова європейської спільноти: аксіологічні та історичні аспекти.\n\nРобочі мови конференції: українська\, польська\, англійська. \nЗаявки на участь приймаються до 19 травня 2023 року  \nРеєстрація: https://forms.gle/y9bpu53U3eFhq3A37. \nМатеріали можна надіслати до 1 червня 2023 року на електронну адресу: politology.phdpu@gmail.com – згодом їх буде розміщено на сайті Університету Григорія Сковороди в Переяславі  (з посиланням на конференцію). \nБільш детальну інформацію про конференцію розміщено в інформаційному листі. \n[/vc_column_text][/vc_column][/vc_row]
URL:https://uhsp.edu.ua/event/mizhnarodna-naukovo-praktychna-konferencziya-yevropejski-oriyentyry-politychnoyi-j-duhovnoyi-konsolidacziyi-ukrayinskogo-suspilstva/
LOCATION:Київська область
CATEGORIES:Конференція
ATTACH;FMTTYPE=image/jpeg:https://uhsp.edu.ua/wp-content/uploads/2023/05/plashka-ivent-2.jpg
END:VEVENT
BEGIN:VEVENT
DTSTART;TZID=Europe/Kiev:20230330T000000
DTEND;TZID=Europe/Kiev:20230330T000000
DTSTAMP:20260420T105850
CREATED:20221228T114634Z
LAST-MODIFIED:20221228T114634Z
UID:45302-1680134400-1680134400@uhsp.edu.ua
SUMMARY:Конкурс з історії України «Боротьба за Українську державність: минуле та сучасне»
DESCRIPTION:Кафедра історії і культури України та спеціальних історичних дисциплін Університету Григорія Сковороди в Переяславі запрошує учнів професійно-технічних училищ та 9-11 класів загальноосвітніх навчальних закладів до участі в Конкурсі з історії України імені Ярослава Потапенка «Боротьба за Українську державність: минуле та сучасне». \nНа Конкурс подаються самостійно підготовлені наукові роботи\, оформлені відповідно до вимог – вони зазначені в Інформаційному листі. \nДо конкурсної роботи обов’язково подається заявка у довільній формі (із зазначенням прізвища\, ім’я та по батькові конкурсанта\, дати народження\, контактного телефону\, електронної адреси\, місця проживання\, повної назви закладу загальної середньої освіти\, назви конкурсної роботи). \nКонкурсні роботи необхідно надіслати звичайним поштовим відправленням до 30 березня 2023 року за адресою: Київська обл.\, Бориспільський район\, м. Переяслав. вул. Сухомлинського\, 30\, кафедра історії та культури України та спеціальних історичних дисциплін. Або на електронну пошту: istorii222@gmail.com і продублювати на rusyapotapenko007@gmail.com. \nІнформацію про дату проведення підсумкової конференції буде повідомлено додатково. \nВсі роботи\, які беруть участь у Конкурсі\, не повертаються\, рецензії (відгуки) на них не видаються. \nВимоги до змісту і оформлення конкурсної роботи\, критерії оцінювання та інші деталі – в інформаційному листі. \nЗа додатковою інформацією можна звертатися за електронною адресою оргкомітету Конкурсу istorii222@gmail.com\, а також за телефонами: +38 (093) 303050–07 (Валентина Костянтинівна Молоткіна)\, +38 (066) 177-61-68 (Руслана Михайлівна Потапенко). \n  \nОргкомітет конкурсу
URL:https://uhsp.edu.ua/event/konkurs-z-istoriyi-ukrayiny-borotba-za-ukrayinsku-derzhavnist-mynule-ta-suchasne/
LOCATION:Київська область
CATEGORIES:Конкурс
ATTACH;FMTTYPE=image/jpeg:https://uhsp.edu.ua/wp-content/uploads/2022/12/plashka-ivent.jpg
END:VEVENT
BEGIN:VEVENT
DTSTART;TZID=Europe/Kiev:20220221T080000
DTEND;TZID=Europe/Kiev:20220331T170000
DTSTAMP:20260420T105850
CREATED:20220218T102721Z
LAST-MODIFIED:20220218T103019Z
UID:40869-1645430400-1648746000@uhsp.edu.ua
SUMMARY:Всеукраїнська олімпіада з математики
DESCRIPTION:[vc_row][vc_column][vc_column_text] \nУніверситет Григорія Сковороди в Переяславі запрошує вступників-2022 взяти участь в олімпіаді з математики та отримати 20 додаткових балів до сертифікату зовнішнього незалежного оцінювання з цього предмету\, які можуть стати вирішальними при вступі до нашого закладу. \nВідповідно до Положення про Всеукраїнські олімпіади вищого навчального закладу для професійної орієнтації вступників на основі повної загальної середньої освіти\, затвердженого Наказом МОН України від 21.12.2016 №1587\, зареєстрованого в Міністерстві юстиції України від 10 січня 2017 року №16/29884 та Положення про Всеукраїнські олімпіади для професійної орієнтації вступників на основі повної загальної середньої освіти зі спеціальностей\, визначених Переліком спеціальностей\, яким надається особлива підтримка\, затвердженим рішенням Вченої ради Університету Григорія Сковороди в Переяславі\, на базі факультету технологічної та математичної освіти в 2022 році проводиться Всеукраїнська олімпіада з математики для абітурієнтів Університету Григорія Сковороди в Переяславі. \nУ олімпіаді можуть брати участь випускники закладів загальної середньої освіти 2021-2022 навчального року або особи\, які мають документ про повну загальну середню освіту та бажають вступити до Університету Григорія Сковороди в Переяславі на спеціальність 014 Середня освіта (Математика). \nПовідомляємо\, що олімпіада проводиться у два тури – дистанційний та очний: перший тур олімпіади – дистанційний\, він відбувається 21 лютого до 31 березня 2022 року; другий тур олімпіади – очний і відбудеться наживо 15 квітня 2022 року. \nЗадля участі в дистанційному турі необхідно пройти тестування. \nВідповіді слід надсилати прикріпленим файлом на електронну скриньку кафедри математики\, інформатики та методики навчання pif-mim@ukr.net (з поміткою «Олімпіада з математики»). Назва прикріпленого файлу – прізвище автора роботи. \nЗверніть увагу\, що до участі в другому турі допускаються учасники\, які набрали не менше 75% балів за перший тур (дистанційний). \nБільше детальної інформації – в інформаційному листі. \nПоложення про Всеукраїнські олімпіади Університету Григорія Сковороди в Переяславі для професійної орієнтації вступників на основі повної загальної середньої освіти доступне на сайті університету. \nОргкомітет олімпіади \n[/vc_column_text][/vc_column][/vc_row]
URL:https://uhsp.edu.ua/event/vseukrayinska-olimpiada-z-matematyky/
LOCATION:Київська область
CATEGORIES:Олімпіада
ATTACH;FMTTYPE=image/jpeg:https://uhsp.edu.ua/wp-content/uploads/2022/02/plashka-ivent-3.jpg
ORGANIZER;CN="%D0%A3%D0%BD%D1%96%D0%B2%D0%B5%D1%80%D1%81%D0%B8%D1%82%D0%B5%D1%82%20%D0%93%D1%80%D0%B8%D0%B3%D0%BE%D1%80%D1%96%D1%8F%20%D0%A1%D0%BA%D0%BE%D0%B2%D0%BE%D1%80%D0%BE%D0%B4%D0%B8%20%D0%B2%20%D0%9F%D0%B5%D1%80%D0%B5%D1%8F%D1%81%D0%BB%D0%B0%D0%B2%D1%96":MAILTO:moderator.phdpu@gmail.com
END:VEVENT
END:VCALENDAR