BEGIN:VCALENDAR
VERSION:2.0
PRODID:-//Університет Григорія Сковороди в Переяславі - ECPv5.16.1.1//NONSGML v1.0//EN
CALSCALE:GREGORIAN
METHOD:PUBLISH
X-WR-CALNAME:Університет Григорія Сковороди в Переяславі
X-ORIGINAL-URL:https://uhsp.edu.ua
X-WR-CALDESC:Події за Університет Григорія Сковороди в Переяславі
REFRESH-INTERVAL;VALUE=DURATION:PT1H
X-Robots-Tag:noindex
X-PUBLISHED-TTL:PT1H
BEGIN:VTIMEZONE
TZID:Europe/Kiev
BEGIN:DAYLIGHT
TZOFFSETFROM:+0200
TZOFFSETTO:+0300
TZNAME:EEST
DTSTART:20230326T010000
END:DAYLIGHT
BEGIN:STANDARD
TZOFFSETFROM:+0300
TZOFFSETTO:+0200
TZNAME:EET
DTSTART:20231029T010000
END:STANDARD
BEGIN:DAYLIGHT
TZOFFSETFROM:+0200
TZOFFSETTO:+0300
TZNAME:EEST
DTSTART:20240331T010000
END:DAYLIGHT
BEGIN:STANDARD
TZOFFSETFROM:+0300
TZOFFSETTO:+0200
TZNAME:EET
DTSTART:20241027T010000
END:STANDARD
END:VTIMEZONE
BEGIN:VEVENT
DTSTART;VALUE=DATE:20230512
DTEND;VALUE=DATE:20230614
DTSTAMP:20260423T013839
CREATED:20230428T171309Z
LAST-MODIFIED:20230428T171309Z
UID:47696-1683849600-1686700799@uhsp.edu.ua
SUMMARY:Міжнародна конференція «Міжкультурна комунікація і перекладознавство: точки дотику та перспективи розвитку»
DESCRIPTION:ференціїферен[vc_row][vc_column][vc_column_text] \n12-13 травня 2023 року в дистанційному форматі відбудеться VІ Міжнародна науково-практична конференція «Міжкультурна комунікація і перекладознавство: точки дотику та перспективи розвитку» \nРобота конференції розгорнеться у кількох тематичних напрямах: \n\nАктуальні питання міжкультурної комунікації.\nПереклад як спосіб і форма міжкультурної комунікації.\nПроблеми різножанрової міжмовної комунікації в контексті перекладознавства.\nАктуальні проблеми теорії і практики перекладу.\nСоціолінгвістичні та лінгвокогнітивні засади перекладу.\nПитання художнього й галузевого перекладу.\nПроблеми відтворення лінгвокультурної та етноунікальної семантики.\nЛінгвокультурний концепт як проблема перекладу.\nЛінгводидактичні питання міжкультурної комунікації і перекладу.\n\nУчасть у конференції передбачає публікацію в електронному збірнику матеріалів конференції (для здобувачів першого (бакалаврського) та другого (магістерського) рівнів вищої освіти буде сформований окремий збірник матеріалів) його розміщенням на сайті кафедри іноземної філології\, перекладу та методики навчання Університету Григорія Сковороди в Переяславі. \nІнформаційний лист. Для участі у VІ Міжнародній науково-практичній конференції необхідно до 29 квітня 2023 року надіслати на електронну адресу conference2022@ukr.net: \n\nпублікацію\, що відповідає темі\, напрямкам конференції та оформлені відповідно до вимог;\nзаповнити заявку про участь у конференції за посиланням.\n\nПісля повідомлення оргкомітету про прийняття публікації до друку\, учасники сплачують організаційний внесок у розмірі 250 грн та надсилають копію квитанції про оплату на електронну адресу conference2022@ukr.net: \nДля здобувачів першого (бакалаврського) та другого (магістерського) рівнів вищої освіти оплата організаційного внеску становить 100 грн. \nПублікації для докторів наук\, професорів є безкоштовними. \nУчасникам конференції буде розіслано електронний збірник матеріалів конференції\, програму конференції та сертифікат про участь (12 годин\, 0\,4 кредиту ЄКТС) (у форматі .pdf) на зазначену у заявці електронну адресу (7-10 днів). Для здобувачів першого (бакалаврського) та другого (магістерського) рівнів вищої освіти буде сформований окремий збірник матеріалів. \nКоординатори конференції: \n+38 (050) 413-08-40 – Любов Петрівна Летюча\, доцент\, заступник завідувача кафедри іноземної філології\, перекладу та методики навчання. \n+38 (066) 223-19-36\, +38 (096) 080-98-87\, conference2022@ukr.net – Євгенія Володимирівна Костик\, доцент\, заступник завідувача кафедри іноземної філології\, перекладу та методики навчання з наукової роботи. \n+38 (063) 715-87-25 – Наталія Віталіївна Швець\, доцент кафедри іноземної філології\, перекладу та методики навчання. \nВимоги до оформлення публікації\, реквізити для оплати та інша більш детальна інформація – в інформаційному листі. \n[/vc_column_text][/vc_column][/vc_row]
URL:https://uhsp.edu.ua/event/mizhnarodna-konferencziya-mizhkulturna-komunikacziya-i-perekladoznavstvo-tochky-dotyku-ta-perspektyvy-rozvytku/
CATEGORIES:Конференція
ATTACH;FMTTYPE=image/jpeg:https://uhsp.edu.ua/wp-content/uploads/2023/04/plashka-ivent.jpg
END:VEVENT
BEGIN:VEVENT
DTSTART;VALUE=DATE:20230601
DTEND;VALUE=DATE:20230603
DTSTAMP:20260423T013839
CREATED:20230504T093026Z
LAST-MODIFIED:20230504T093026Z
UID:47930-1685577600-1685750399@uhsp.edu.ua
SUMMARY:Міжнародна науково-практична конференція «Європейські орієнтири політичної й духовної консолідації українського суспільства»
DESCRIPTION:[vc_row][vc_column][vc_column_text] \nКафедра політології факультету гуманітарно-природничої освіти та соціальних технологій Університету Григорія Сковороди в Переяславі запрошує до участі в Міжнародній науково-практичній конференції  «Європейські орієнтири політичної й духовної консолідації українського суспільства»\, яка відбудеться 1–2 червня 2023 року. \nУ 2023 році організаторами запропоновано такі теми для обговорення: \n\nсуспільна консолідація як предмет політологічного аналізу;\nполітико-інституційні й правові умови консолідації українського суспільства в контексті європейських демократичних орієнтирів;\nпроблеми державного правління: баланс між централізацією й децентралізацією влади;\nправові й політико-етичні аспекти взаємодії влади і суспільства; модернізація української культури\, духовності\, освіти і ментальності;\nпроблеми національної консолідації як чинника збереження європейської української нації в умовах російсько-української війни;\nнаціонально-культурна ідентичність України як складова європейської спільноти: аксіологічні та історичні аспекти.\n\nРобочі мови конференції: українська\, польська\, англійська. \nЗаявки на участь приймаються до 19 травня 2023 року  \nРеєстрація: https://forms.gle/y9bpu53U3eFhq3A37. \nМатеріали можна надіслати до 1 червня 2023 року на електронну адресу: politology.phdpu@gmail.com – згодом їх буде розміщено на сайті Університету Григорія Сковороди в Переяславі  (з посиланням на конференцію). \nБільш детальну інформацію про конференцію розміщено в інформаційному листі. \n[/vc_column_text][/vc_column][/vc_row]
URL:https://uhsp.edu.ua/event/mizhnarodna-naukovo-praktychna-konferencziya-yevropejski-oriyentyry-politychnoyi-j-duhovnoyi-konsolidacziyi-ukrayinskogo-suspilstva/
CATEGORIES:Конференція
ATTACH;FMTTYPE=image/jpeg:https://uhsp.edu.ua/wp-content/uploads/2023/05/plashka-ivent-2.jpg
END:VEVENT
BEGIN:VEVENT
DTSTART;TZID=Europe/Kiev:20241003T080000
DTEND;TZID=Europe/Kiev:20241004T170000
DTSTAMP:20260423T013839
CREATED:20240318T113517Z
LAST-MODIFIED:20240318T113517Z
UID:56213-1727942400-1728061200@uhsp.edu.ua
SUMMARY:«XХІІ Сковородинівські читання»
DESCRIPTION:[vc_row][vc_column][vc_column_text] \n«Сковородинівські читання» вже не один рік об’єднують науковців-дослідників творчого доробку видатного любомудра Григорія Сковороди в стінах Університету Григорія Сковороди в Переяславі. Не стане виключенням й 2024 рік\, коли 3-4 жовтня в УГСП\, за співініціативи кафедри філософії і соціальної антропології імені професора І.П.Стогнія й навчально-наукового центру Сковородинознавства закладу відбудеться традиційна Міжнародна конференція «XХІІ Сковородинівські читання». У рамках заходу на вас незмінно чекають секційні засідання\, культурна програма\, виставки творчих робіт сковородинівців\, екскурсії музеями та історичними місцями Переяслава та багато інших цікавих івентів. \nПовідомляється\, що до участі в конференції запрошуються провідні вчені\, викладачі закладів вищої освіти\, співробітники наукових та науково-дослідних організацій та установ\, здобувачі вищої освіти усіх рівнів\, краєзнавці\, представники громадських організацій та усі бажаючі. \nНаукові напрями роботи конференції у 2024 році: \n\nАналіз самобутності творчого філософського доробку Сковороди\, його зв’язок з античною\, середньовічною\, національною філософською спадщиною;\nВплив філософії Григорія Сковороди на подальший розвиток філософії в Україні\, центрально – та східноєвропейських країнах\, обґрунтування в ній питання морально-етичних\, богословських\, людинознавчих проблем;\nПрочитання і пояснення особливостей змісту й форми різножанрової літературної спадщини Григорія Сковороди.\nОпрацювання у нових підходів до вивчення та трактування творчого доробку письменника-філософа в середній та вищій школі\, жанрової палітри його прозових і поетичних\, байкарських творів\, досвіду поєднання виховного спрямування спадщини письменника з різнобічними краєзнавчими напрацюваннями\, стратегією діяльності меморіальних сковородинівських музеїв\, зв’язком доробку спадщини письменника з різножанровою національною культурою його часу та сьогодення.\n\nЗазначимо\, що робочими мовами конференції є українська та англійська мови; її матеріали будуть опубліковані у збірнику наукових праць «Переяславські сковородинівські студії»\, а усі учасники зібрання гарантовано отримають сертифікати учасника (12 годин\, 0\,4 кредита ЄКТС). \nЗ більш детальною інформацією щодо умов участі та вимог до матеріалів\, умов проплати та інших організаційних питань можна ознайомитися у інформаційному листі. \nКонтактна інформація: \n+38093-622-91-71 Юхименко Наталія Федорівна (керівник) \n+38063-591-28-75 Шутенко Валентина Іванівна (лаборант) \n[/vc_column_text][/vc_column][/vc_row]
URL:https://uhsp.edu.ua/event/xhii-skovorodynivski-chytannya/
CATEGORIES:Конференція
ATTACH;FMTTYPE=image/jpeg:https://uhsp.edu.ua/wp-content/uploads/2024/03/plashka-ivent.jpg
END:VEVENT
END:VCALENDAR